BEGIN:VCALENDAR
VERSION:2.0
PRODID:-//hacksw/handcal//NONSGML v1.0//EN
BEGIN:VEVENT
DTSTART:20220426T180000
DTEND:20220510T210000
LOCATION:Salle IA 118 \n3, rue Claude Bloch \n14000 CAEN
ORGANIZER;CN=Marie BROHIER:MAILTO:
SUMMARY:IAE Caen Alumni organise un PSC1 (Formation premiers secours) !
DESCRIPTION:IL EST TEMPS D'APPRENDRE LES GESTES DE PREMIERS SECOURS !\nParticiper à l'atelier PSC1, et apprenez à maitriser les gestes qui sauvent.\nAu programme : \nProtection de la victimeAlerter les secours...
URL:https://www.iaecaenalumni.fr/fr/event/iae-caen-alumni-organise-un-psc1-formation-premiers-secours/2022/04/26/379
BEGIN:VALARM
TRIGGER:-P0DT1H0M0S
ACTION:DISPLAY
END:VALARM
END:VEVENT
END:VCALENDAR